Workbook

Sheet How to Use
B1: #VALUE! | C1: #VALUE!
B3: This Interactive Decision Support Guide for Undersowing Maize aims to assist maize growers on decision making for undersowing maize, in order to protect soil & water whilst minimising risk to maize yield.
B4: The information included has been developed from an extensive range of research reports, Maize Growers’ Association and industry technical guidance, as well as responses to a national farmer/agronomist questionnaire.
B6: Successful maize undersowing will depend on soil conditions, establishment timing and weather (particularly soil moisture and sunshine levels).
B8: Engagement with seed suppliers/advisers/agronomists is recommended to determine suitable seed rates and costs, ensure compatible mixtures and discuss rotational considerations for specific circumstances.
B10: To use the species selector tool, select your site characteristics and requirements from the drop down boxes in column B.
B13: Important considerations:
B14: Most undersown species will persist and grow rapidly after the maize is harvested. If following maize with a winter crop, consideration should be given to species used and destruction method depending on the following crop (i.e. winter wheat)
B16: Using a combination of species to undersow maize will increase the benefits.
B17: Grasses/cereals will scavenge more soil N than legumes.
B18: Deep rooting legumes and herbs will improve nutrient cycling, drainage, organic matter and moisture retention.
B20: Follow herbicide labels for guidance on safe timing of sowing the understorey species - pre-em and post-em herbicides on maize can affect germination of sown species. between herbicide application and sowing of understorey.
B21: Most residues dissipate around 3-4 maize leaf stage. A minimum gap of two weeks is recommended. Grass/cereal species are most tolerant to herbicide use.
... B33: Undersowing Maize Interactive Tool & Grower Guide: User Feedback – Fill in form
E36: This guidance was created by NIAB using funding from Anglian Water, under a steering group of the MGA, Future Biogas, Anglian Water, South East Water, United Utilities, Southern Water, Wessex Water, Yorkshire Water, and Toby Simpson

Sheet Species Selection Tool
A1: #VALUE! | C1: #VALUE!
A2: Undersowing Maize - Interactive Decision Support Tool v1.0 June 2026 | G2: Select site characteristics and requirements from the drop down boxes in column B.
A4: Site Characteristics | B4: Select | D4: Compatible Species | E4: Timing (maize leaves) | F4: Drilling Seed Rate (kg/ha) | G4: Broadcast Seed Rate (kg/ha) | H4: Sowing Depth (cm) | I4: Seed Cost (£-£££) | J4: Nutrient Capture (1= low 5=high) | K4: Reliability (1= low 5=high) | L4: Weed Suppression (1= low 5=high) | M4: Trafficability (1= poor 5=good) | N4: Grazing value (£-£££) | O4: Harvest | P4: Destruction | Q4: Notes
A5: Soil pH | B5: 6 | D5: =IF(AND(Output!T2,$B$8="75cm"),Output!A2,"") -> Perennial ryegrass (PRG) | E5: =IF(Output!$T2,Species!AA2,"") -> 4–6 | F5: =IF(AND(Output!$T2,$B$7="Drill"),Species!AB2," ") -> 10-12 | G5: =IF(AND(Output!$T2,$B$7="Broadcast"),Species!AC2," ") | H5: =IF(Output!$T2,Species!R2," ") -> 0.9 | I5: =IF(Output!$T2,Species!AE2," ") -> £ | J5: =IF(Output!$T2,Species!H2," ") -> 4 | K5: =IF(Output!$T2,Species!AG2," ") -> 5 | L5: =IF(Output!$T2,Species!J2," ") -> 4 | M5: =IF(Output!$T2,Species!L2," ") -> 4 | N5: =IF(Output!$T2,Species!AF2," ") -> £££ | O5: =IF(Output!$T2,Species!AH2,"") -> Minimal maize yield impact, nor on harvest efficiency, most resilient to maize harvest traffic | P5: =IF(Output!$T2,Species!AI2,"") -> Herbicide or by hard grazing followed by cultivation | Q5: =IF(Output!$T2,Species!AJ2,"") -> Moderate drought tolerance, may struggle in dry summers, good winter cover. Less competitive than IRG/Westerwolds. Reasonable tolerance to pre/post emergence herbicides
A6: Drought prone soils | B6: No | D6: =IF(AND(Output!T3,$B$8="75cm"),Output!A3,"") -> Italian ryegrass (IRG) | E6: =IF(Output!$T3,Species!AA3,"") -> 4–8 | F6: =IF(AND(Output!$T3,$B$7="Drill"),Species!AB3," ") -> 15-20 | G6: =IF(AND(Output!$T3,$B$7="Broadcast"),Species!AC3," ") | H6: =IF(Output!$T3,Species!R3," ") -> 0.9 | I6: =IF(Output!$T3,Species!AE3," ") -> £ | J6: =IF(Output!$T3,Species!H3," ") -> 4 | K6: =IF(Output!$T3,Species!AG3," ") -> 5 | L6: =IF(Output!$T3,Species!J3," ") -> 5 | M6: =IF(Output!$T3,Species!L3," ") -> 4 | N6: =IF(Output!$T3,Species!AF3," ") -> £££ | O6: =IF(Output!$T3,Species!AH3,"") -> 0-5% maize yield impact if sown too early | P6: =IF(Output!$T3,Species!AI3,"") -> Herbicide or by hard grazing followed by cultivation | Q6: =IF(Output!$T3,Species!AJ3,"") -> Slightly more competitive than PRG, Festulolium and Tall fescue, can be sown later. Reasonable tolerance to pre/post emergence herbicides
A7: Establishment method | B7: Drill | C7: =IF(B8="50cm","Undersowing maize that has 50cm row widths is likely to be unsuccessful due to competition for light and moisture for both species","") | D7: =IF(AND(Output!T4,$B$8="75cm"),Output!A4,"") -> Westerwolds (annual ryegrass) | E7: =IF(Output!$T4,Species!AA4,"") -> 4–8 | F7: =IF(AND(Output!$T4,$B$7="Drill"),Species!AB4," ") -> 15-20 | G7: =IF(AND(Output!$T4,$B$7="Broadcast"),Species!AC4," ") | H7: =IF(Output!$T4,Species!R4," ") -> 0.9 | I7: =IF(Output!$T4,Species!AE4," ") -> £ | J7: =IF(Output!$T4,Species!H4," ") -> 3 | K7: =IF(Output!$T4,Species!AG4," ") -> 4 | L7: =IF(Output!$T4,Species!J4," ") -> 5 | M7: =IF(Output!$T4,Species!L4," ") -> 3 | N7: =IF(Output!$T4,Species!AF4," ") -> £££ | O7: =IF(Output!$T4,Species!AH4,"") -> 0-5% maize yield impact if sown too early | P7: =IF(Output!$T4,Species!AI4,"") -> Winter dieback or herbicide | Q7: =IF(Output!$T4,Species!AJ4,"") -> Fastest autumn growth. More competitive than PRG, Festulolium or Tall fescue, can be sown later. Reasonable tolerance to pre/post emergence herbicides
A8: Maize row width | B8: 75cm | D8: =IF(AND(Output!T5,$B$8="75cm"),Output!A5,"") -> Festulolium | E8: =IF(Output!$T5,Species!AA5,"") -> 4-6 | F8: =IF(AND(Output!$T5,$B$7="Drill"),Species!AB5," ") -> 10-15 | G8: =IF(AND(Output!$T5,$B$7="Broadcast"),Species!AC5," ") | H8: =IF(Output!$T5,Species!R5," ") -> 0.9 | I8: =IF(Output!$T5,Species!AE5," ") -> £ | J8: =IF(Output!$T5,Species!H5," ") -> 4 | K8: =IF(Output!$T5,Species!AG5," ") -> 5 | L8: =IF(Output!$T5,Species!J5," ") -> 4 | M8: =IF(Output!$T5,Species!L5," ") -> 5 | N8: =IF(Output!$T5,Species!AF5," ") -> £££ | O8: =IF(Output!$T5,Species!AH5,"") -> 0-3% maize yield impact | P8: =IF(Output!$T5,Species!AI5,"") -> Herbicide or by hard grazing followed by cultivation | Q8: =IF(Output!$T5,Species!AJ5,"") -> Reasonable tolerance to pre/post emergence herbicides
A9: Use of maize pre/post-em herbicide | B9: No | C9: =IF(B9="Yes","Wait 2 weeks after herbicide before sowing understorey - check labels!","") | D9: =IF(AND(Output!T6,$B$8="75cm"),Output!A6,"") -> Tall fescue | E9: =IF(Output!$T6,Species!AA6,"") -> 4-6 | F9: =IF(AND(Output!$T6,$B$7="Drill"),Species!AB6," ") -> 10-15 | G9: =IF(AND(Output!$T6,$B$7="Broadcast"),Species!AC6," ") | H9: =IF(Output!$T6,Species!R6," ") -> 0.9 | I9: =IF(Output!$T6,Species!AE6," ") -> £ | J9: =IF(Output!$T6,Species!H6," ") -> 4 | K9: =IF(Output!$T6,Species!AG6," ") -> 5 | L9: =IF(Output!$T6,Species!J6," ") -> 3 | M9: =IF(Output!$T6,Species!L6," ") -> 5 | N9: =IF(Output!$T6,Species!AF6," ") -> ££ | O9: =IF(Output!$T6,Species!AH6,"") -> Typically 0% maize yield impact | P9: =IF(Output!$T6,Species!AI6,"") -> Slower to kill chemically, follow by cultivation | Q9: =IF(Output!$T6,Species!AJ6,"") -> Best for early sowing. Lowest maize yield impact. Reasonable tolerance to pre/post emergence herbicides.
D10: =IF(AND(Output!T7,$B$8="75cm"),Output!A7,"") -> White clover | E10: =IF(Output!$T7,Species!AA7,"") -> 4-6 | F10: =IF(AND(Output!$T7,$B$7="Drill"),Species!AB7," ") -> 3-5 | G10: =IF(AND(Output!$T7,$B$7="Broadcast"),Species!AC7," ") | H10: =IF(Output!$T7,Species!R7," ") -> 0.9 | I10: =IF(Output!$T7,Species!AE7," ") -> £ | J10: =IF(Output!$T7,Species!H7," ") -> 3 | K10: =IF(Output!$T7,Species!AG7," ") -> 3 | L10: =IF(Output!$T7,Species!J7," ") -> 3 | M10: =IF(Output!$T7,Species!L7," ") -> 3 | N10: =IF(Output!$T7,Species!AF7," ") -> ££ | O10: =IF(Output!$T7,Species!AH7,"") -> Typically 0% maize yield impact | P10: =IF(Output!$T7,Species!AI7,"") -> Easy to destroy with herbicide or shallow tillage. | Q10: =IF(Output!$T7,Species!AJ7,"") -> Residual N. Best grown/grazed with grasses to capture nutrients and minimise bloat risk in livestock.
A11: Requirements | B11: Select | D11: =IF(AND(Output!T8,$B$8="75cm"),Output!A8,"") -> Red clover | E11: =IF(Output!$T8,Species!AA8,"") -> 4-6 | F11: =IF(AND(Output!$T8,$B$7="Drill"),Species!AB8," ") -> 6-10 | G11: =IF(AND(Output!$T8,$B$7="Broadcast"),Species!AC8," ") | H11: =IF(Output!$T8,Species!R8," ") -> 0.9 | I11: =IF(Output!$T8,Species!AE8," ") -> ££ | J11: =IF(Output!$T8,Species!H8," ") -> 4 | K11: =IF(Output!$T8,Species!AG8," ") -> 3 | L11: =IF(Output!$T8,Species!J8," ") -> 4 | M11: =IF(Output!$T8,Species!L8," ") -> 3 | N11: =IF(Output!$T8,Species!AF8," ") -> ££ | O11: =IF(Output!$T8,Species!AH8,"") -> Typically 0% maize yield impact | P11: =IF(Output!$T8,Species!AI8,"") -> Herbicide or by hard grazing followed by cultivation | Q11: =IF(Output!$T8,Species!AJ8,"") -> Soil health benefit. Can be sown in mixture with chicory and plantain. Residual N. High forage yield. Best grown/grazed with grasses to capture nutrients and minimise bloat risk in livestock.
A12: Reduce autumn/winter soil erosion | B12: - | C12: =IF(B13="Yes","Include high N capture species if using legumes","") | D12: =IF(AND(Output!T9,$B$8="75cm"),Output!A9,"") -> Climbing beans | E12: =IF(Output!$T9,Species!AA9,"") -> 0 | F12: =IF(AND(Output!$T9,$B$7="Drill"),Species!AB9," ") -> 50-80 | G12: =IF(AND(Output!$T9,$B$7="Broadcast"),Species!AC9," ") | H12: =IF(Output!$T9,Species!R9," ") -> 4 | I12: =IF(Output!$T9,Species!AE9," ") -> ££ | J12: =IF(Output!$T9,Species!H9," ") -> 3 | K12: =IF(Output!$T9,Species!AG9," ") -> 3 | L12: =IF(Output!$T9,Species!J9," ") -> 2 | M12: =IF(Output!$T9,Species!L9," ") -> 0 | N12: =IF(Output!$T9,Species!AF9," ") -> 0 | O12: =IF(Output!$T9,Species!AH9,"") -> Cut as bicrop, risk of maize yield reduction from competition but higher total forage | P12: =IF(Output!$T9,Species!AI9,"") -> Removed with maize harvest | Q12: =IF(Output!$T9,Species!AJ9,"") -> Potential for higher total forage with higher CP and soil N
A13: Reduce nutrient leaching | B13: - | D13: =IF(AND(Output!T10,$B$8="75cm"),Output!A10,"") -> Field beans | E13: =IF(Output!$T10,Species!AA10,"") -> 0 | F13: =IF(AND(Output!$T10,$B$7="Drill"),Species!AB10," ") -> 80-150 | G13: =IF(AND(Output!$T10,$B$7="Broadcast"),Species!AC10," ") | H13: =IF(Output!$T10,Species!R10," ") -> 5 | I13: =IF(Output!$T10,Species!AE10," ") -> £ | J13: =IF(Output!$T10,Species!H10," ") -> 3 | K13: =IF(Output!$T10,Species!AG10," ") -> 2 | L13: =IF(Output!$T10,Species!J10," ") -> 2 | M13: =IF(Output!$T10,Species!L10," ") -> 2 | N13: =IF(Output!$T10,Species!AF10," ") -> 0 | O13: =IF(Output!$T10,Species!AH10,"") -> Can be cut as bicrop, risk of maize yield reduction | P13: =IF(Output!$T10,Species!AI10,"") -> Winter/frost kill, top high stubble, cultivate | Q13: =IF(Output!$T10,Species!AJ10,"") -> Residual N
A14: Deep rooting | B14: - | D14: =IF(AND(Output!T11,$B$8="75cm"),Output!A11,"") -> Balansa clover | E14: =IF(Output!$T11,Species!AA11,"") -> 5-8 | F14: =IF(AND(Output!$T11,$B$7="Drill"),Species!AB11," ") -> 3-5 | G14: =IF(AND(Output!$T11,$B$7="Broadcast"),Species!AC11," ") | H14: =IF(Output!$T11,Species!R11," ") -> 0.9 | I14: =IF(Output!$T11,Species!AE11," ") -> ££ | J14: =IF(Output!$T11,Species!H11," ") -> 3 | K14: =IF(Output!$T11,Species!AG11," ") -> 3 | L14: =IF(Output!$T11,Species!J11," ") -> 4 | M14: =IF(Output!$T11,Species!L11," ") -> 3 | N14: =IF(Output!$T11,Species!AF11," ") -> ££ | O14: =IF(Output!$T11,Species!AH11,"") -> Typically 0% maize yield impact | P14: =IF(Output!$T11,Species!AI11,"") -> Winter/frost kill | Q14: =IF(Output!$T11,Species!AJ11,"") -> Residual N. Best grown/grazed with grasses to capture nutrients and minimise bloat risk in livestock.
A15: Improve soil structure | B15: - | D15: =IF(AND(Output!T12,$B$8="75cm"),Output!A12,"") -> Berseem clover | E15: =IF(Output!$T12,Species!AA12,"") -> 6-8 | F15: =IF(AND(Output!$T12,$B$7="Drill"),Species!AB12," ") -> 8-12 | G15: =IF(AND(Output!$T12,$B$7="Broadcast"),Species!AC12," ") | H15: =IF(Output!$T12,Species!R12," ") -> 0.9 | I15: =IF(Output!$T12,Species!AE12," ") -> ££ | J15: =IF(Output!$T12,Species!H12," ") -> 3 | K15: =IF(Output!$T12,Species!AG12," ") -> 2 | L15: =IF(Output!$T12,Species!J12," ") -> 4 | M15: =IF(Output!$T12,Species!L12," ") -> 3 | N15: =IF(Output!$T12,Species!AF12," ") -> £ | O15: =IF(Output!$T12,Species!AH12,"") -> Typically 0-2% maize yield impact | P15: =IF(Output!$T12,Species!AI12,"") -> Winter/frost kill | Q15: =IF(Output!$T12,Species!AJ12,"") -> Residual N. Best grown/grazed with grasses to capture nutrients and minimise bloat risk in livestock.
A16: Improve soil trafficability | B16: - | D16: =IF(AND(Output!T13,$B$8="75cm"),Output!A13,"") -> Crimson clover | E16: =IF(Output!$T13,Species!AA13,"") -> 5-7 | F16: =IF(AND(Output!$T13,$B$7="Drill"),Species!AB13," ") -> 8-12 | G16: =IF(AND(Output!$T13,$B$7="Broadcast"),Species!AC13," ") | H16: =IF(Output!$T13,Species!R13," ") -> 0.9 | I16: =IF(Output!$T13,Species!AE13," ") -> ££ | J16: =IF(Output!$T13,Species!H13," ") -> 3 | K16: =IF(Output!$T13,Species!AG13," ") -> 3 | L16: =IF(Output!$T13,Species!J13," ") -> 4 | M16: =IF(Output!$T13,Species!L13," ") -> 3 | N16: =IF(Output!$T13,Species!AF13," ") -> 0 | O16: =IF(Output!$T13,Species!AH13,"") -> Typically 0% maize yield impact | P16: =IF(Output!$T13,Species!AI13,"") -> Winter/frost kill | Q16: =IF(Output!$T13,Species!AJ13,"") -> Faster autumn growth than white clover. Residual N. Best grown/grazed with grasses to capture nutrients and minimise bloat risk in livestock.
A17: Nitrogen fixation | B17: - | D17: =IF(AND(Output!T14,$B$8="75cm"),Output!A14,"") -> Chicory | E17: =IF(Output!$T14,Species!AA14,"") -> 3-4 | F17: =IF(AND(Output!$T14,$B$7="Drill"),Species!AB14," ") -> 2-4 | G17: =IF(AND(Output!$T14,$B$7="Broadcast"),Species!AC14," ") | H17: =IF(Output!$T14,Species!R14," ") -> 0.9 | I17: =IF(Output!$T14,Species!AE14," ") -> ££ | J17: =IF(Output!$T14,Species!H14," ") -> 5 | K17: =IF(Output!$T14,Species!AG14," ") -> 3 | L17: =IF(Output!$T14,Species!J14," ") -> 3 | M17: =IF(Output!$T14,Species!L14," ") -> 3 | N17: =IF(Output!$T14,Species!AF14," ") -> ££ | O17: =IF(Output!$T14,Species!AH14,"") -> Typically 0% maize yield impact | P17: =IF(Output!$T14,Species!AI14,"") -> Herbicide or by hard grazing followed by cultivation | Q17: =IF(Output!$T14,Species!AJ14,"") -> Slow initial growth, better weed suppression if in mixture with plantain and red clover
A18: Weed suppression | B18: - | D18: =IF(AND(Output!T15,$B$8="75cm"),Output!A15,"") -> Ribwort plantain | E18: =IF(Output!$T15,Species!AA15,"") -> 3-4 | F18: =IF(AND(Output!$T15,$B$7="Drill"),Species!AB15," ") -> 2-4 | G18: =IF(AND(Output!$T15,$B$7="Broadcast"),Species!AC15," ") | H18: =IF(Output!$T15,Species!R15," ") -> 0.9 | I18: =IF(Output!$T15,Species!AE15," ") -> ££ | J18: =IF(Output!$T15,Species!H15," ") -> 5 | K18: =IF(Output!$T15,Species!AG15," ") -> 3 | L18: =IF(Output!$T15,Species!J15," ") -> 3 | M18: =IF(Output!$T15,Species!L15," ") -> 4 | N18: =IF(Output!$T15,Species!AF15," ") -> ££ | O18: =IF(Output!$T15,Species!AH15,"") -> Typically 0-2% maize yield impact | P18: =IF(Output!$T15,Species!AI15,"") -> Herbicide or by hard grazing followed by cultivation | Q18: =IF(Output!$T15,Species!AJ15,"") -> Relatively slow initial growth. Works well in mixture with chicory and red clover
A19: Autumn/winter cover | B19: - | D19: =IF(AND(Output!T16,$B$8="75cm"),Output!A16,"") -> Vetch | E19: =IF(Output!$T16,Species!AA16,"") -> 1-3 | F19: =IF(AND(Output!$T16,$B$7="Drill"),Species!AB16," ") -> 15-25 | G19: =IF(AND(Output!$T16,$B$7="Broadcast"),Species!AC16," ") | H19: =IF(Output!$T16,Species!R16," ") -> 3 | I19: =IF(Output!$T16,Species!AE16," ") -> ££ | J19: =IF(Output!$T16,Species!H16," ") -> 3 | K19: =IF(Output!$T16,Species!AG16," ") -> 3 | L19: =IF(Output!$T16,Species!J16," ") -> 5 | M19: =IF(Output!$T16,Species!L16," ") -> 2 | N19: =IF(Output!$T16,Species!AF16," ") -> ££ | O19: =IF(Output!$T16,Species!AH16,"") -> Typically 0-3% maize yield impact | P19: =IF(Output!$T16,Species!AI16,"") -> Winter/frost kill or herbicide | Q19: =IF(Output!$T16,Species!AJ16,"") -> Residual N. Works best in a mixture
A20: Protein feed source | B20: - | D20: =IF(AND(Output!T17,$B$8="75cm"),Output!A17,"") -> Rye | E20: =IF(Output!$T17,Species!AA17,"") -> 6-8 | F20: =IF(AND(Output!$T17,$B$7="Drill"),Species!AB17," ") -> 30-75 | G20: =IF(AND(Output!$T17,$B$7="Broadcast"),Species!AC17," ") | H20: =IF(Output!$T17,Species!R17," ") -> 4 | I20: =IF(Output!$T17,Species!AE17," ") -> £ | J20: =IF(Output!$T17,Species!H17," ") -> 5 | K20: =IF(Output!$T17,Species!AG17," ") -> 3 | L20: =IF(Output!$T17,Species!J17," ") -> 5 | M20: =IF(Output!$T17,Species!L17," ") -> 4 | N20: =IF(Output!$T17,Species!AF17," ") -> ££ | O20: =IF(Output!$T17,Species!AH17,"") -> Can reduce yield if established early or in dry conditions (competes for moisture). Dense ground cover can slow harvest.Typically 0-5% maize yield impact | P20: =IF(Output!$T17,Species!AI17,"") -> Herbicide or by hard grazing followed by cultivation | Q20: =IF(Output!$T17,Species!AJ17,"") -> Soil benefits. Works best when sown later (6–8 leaf). Excellent for bi-crop silage or early spring grazing. Can compete with maize in dry conditions
A21: Autumn/winter grazing | B21: - | D21: =IF(AND(Output!T18,$B$8="75cm"),Output!A18,"") -> Oats | E21: =IF(Output!$T18,Species!AA18,"") -> 3-8 | F21: =IF(AND(Output!$T18,$B$7="Drill"),Species!AB18," ") -> 40-60 | G21: =IF(AND(Output!$T18,$B$7="Broadcast"),Species!AC18," ") | H21: =IF(Output!$T18,Species!R18," ") -> 4 | I21: =IF(Output!$T18,Species!AE18," ") -> £ | J21: =IF(Output!$T18,Species!H18," ") -> 4 | K21: =IF(Output!$T18,Species!AG18," ") -> 3 | L21: =IF(Output!$T18,Species!J18," ") -> 4 | M21: =IF(Output!$T18,Species!L18," ") -> 3 | N21: =IF(Output!$T18,Species!AF18," ") -> ££ | O21: =IF(Output!$T18,Species!AH18,"") -> Typically 0-5% maize yield or harvest impact | P21: =IF(Output!$T18,Species!AI18,"") -> Winter die-back or herbicide or by hard grazing followed by cultivation | Q21: =IF(Output!$T18,Species!AJ18,"") -> Slow initial growth, good for later drilling
A22: Spring grazing | B22: - | D22: =IF(AND(Output!T19,$B$8="75cm"),Output!A19,"") -> Barley | E22: =IF(Output!$T19,Species!AA19,"") -> 4-6 | F22: =IF(AND(Output!$T19,$B$7="Drill"),Species!AB19," ") -> 60-80 | G22: =IF(AND(Output!$T19,$B$7="Broadcast"),Species!AC19," ") | H22: =IF(Output!$T19,Species!R19," ") -> 4 | I22: =IF(Output!$T19,Species!AE19," ") -> £ | J22: =IF(Output!$T19,Species!H19," ") -> 4 | K22: =IF(Output!$T19,Species!AG19," ") -> 3 | L22: =IF(Output!$T19,Species!J19," ") -> 3 | M22: =IF(Output!$T19,Species!L19," ") -> 3 | N22: =IF(Output!$T19,Species!AF19," ") -> ££ | O22: =IF(Output!$T19,Species!AH19,"") -> Typically 0-5% maize yield impact | P22: =IF(Output!$T19,Species!AI19,"") -> Herbicide or by hard grazing followed by cultivation | Q22: =IF(Output!$T19,Species!AJ19,"") -> Less aggressive than rye, can struggle in dense shade
A23: Bi-crop silage | B23: - | D23: =IF(AND(Output!T20,$B$8="75cm"),Output!A20,"") -> Triticale | E23: =IF(Output!$T20,Species!AA20,"") -> 3-8 | F23: =IF(AND(Output!$T20,$B$7="Drill"),Species!AB20," ") -> 50-80 | G23: =IF(AND(Output!$T20,$B$7="Broadcast"),Species!AC20," ") | H23: =IF(Output!$T20,Species!R20," ") -> 4 | I23: =IF(Output!$T20,Species!AE20," ") -> £ | J23: =IF(Output!$T20,Species!H20," ") -> 5 | K23: =IF(Output!$T20,Species!AG20," ") -> 3 | L23: =IF(Output!$T20,Species!J20," ") -> 5 | M23: =IF(Output!$T20,Species!L20," ") -> 4 | N23: =IF(Output!$T20,Species!AF20," ") -> ££ | O23: =IF(Output!$T20,Species!AH20,"") -> Typically 0-5% maize yield impact | P23: =IF(Output!$T20,Species!AI20,"") -> Herbicide or by hard grazing followed by cultivation | Q23: =IF(Output!$T20,Species!AJ20,"") -> Slow initial growth. Exccellent for bi-crop and spring grazing, good nutrient capture
D24: =IF(AND(Output!T21,$B$8="75cm"),Output!A21,"") -> Herb/legume/grass mix | E24: =IF(Output!$T21,Species!AA21,"") -> 3-4 | F24: =IF(AND(Output!$T21,$B$7="Drill"),Species!AB21," ") -> 12-20 | G24: =IF(AND(Output!$T21,$B$7="Broadcast"),Species!AC21," ") | H24: =IF(Output!$T21,Species!R21," ") -> 0.9 | I24: =IF(Output!$T21,Species!AE21," ") -> ££ | J24: =IF(Output!$T21,Species!H21," ") -> 5 | K24: =IF(Output!$T21,Species!AG21," ") -> 3 | L24: =IF(Output!$T21,Species!J21," ") -> 4 | M24: =IF(Output!$T21,Species!L21," ") -> 4 | N24: =IF(Output!$T21,Species!AF21," ") -> £££ | O24: =IF(Output!$T21,Species!AH21,"") -> Typically 0% maize yield impact | P24: =IF(Output!$T21,Species!AI21,"") -> Herbicide or by hard grazing followed by cultivation | Q24: =IF(Output!$T21,Species!AJ21,"") -> Slow initial growth, excellent autumn and spring grazing, highest total benefits

Sheet Species
B1: Soil pH minimum | C1: Soil pH maximum | D1: Drought tolerance | E1: Nitrogen fixation | F1: Protein feed source | G1: Reduce soil erosion | H1: Reduce nutrient leaching | I1: Deep rooting | J1: Weed suppression | K1: Improve soil structure | L1: Improve trafficability | M1: Bi-crop silage | N1: Autumn/winter grazing | O1: Spring grazing | P1: Drill establishment | Q1: Broadcast establishment | R1: Sowing depth (cm) | S1: 4–6 leaves maize | T1: 6–8 leaves maize | U1: Maize pre/post-em compatible | V1: Autumn/Winter cover | W1: Autumn/Winter Grazing | X1: Destruction by Cultivation | Y1: Destruction by Herbicide | Z1: Natural die back | AA1: Timing - Maize (leaves) | AB1: Seed Rate Drilling (kg/ha) | AC1: Seed Rate Broadcast (kg/ha) | AD1: Sowing Depth (cm) | AE1: Seed cost | AF1: Grazing value | AG1: Reliability | AH1: Harvest | AI1: Destruction | AJ1: Notes
A2: Perennial ryegrass (PRG) | B2: 5.5 | C2: 7.5 | D2: 3 | E2: 0 | F2: 3 | G2: 5 | H2: 4 | I2: 2 | J2: 4 | K2: 3 | L2: 4 | M2: 4 | N2: 3 | O2: 5 | P2: 5 | Q2: 4 | R2: 0.9 | S2: 4 | T2: 3 | U2: 3 | V2: 5 | W2: 5 | X2: 4 | Y2: 4 | Z2: 0 | AA2: 4–6 | AB2: 10-12 | AC2: 12-15 | AD2: =R2 -> 0.9 | AE2: £ | AF2: £££ | AG2: 5 | AH2: Minimal maize yield impact, nor on harvest efficiency, most resilient to maize harvest traffic | AI2: Herbicide or by hard grazing followed by cultivation | AJ2: Moderate drought tolerance, may struggle in dry summers, good winter cover. Less competitive than IRG/Westerwolds. Reasonable tolerance to pre/post emergence herbicides
A3: Italian ryegrass (IRG) | B3: 5.5 | C3: 7.5 | D3: 2 | E3: 0 | F3: 3 | G3: 5 | H3: 4 | I3: 2 | J3: 5 | K3: 3 | L3: 4 | M3: 5 | N3: 4 | O3: 5 | P3: 5 | Q3: 4 | R3: 0.9 | S3: 4 | T3: 3 | U3: 3 | V3: 5 | W3: 5 | X3: 4 | Y3: 4 | Z3: 0 | AA3: 4–8 | AB3: 15-20 | AC3: 18-22 | AD3: =R3 -> 0.9 | AE3: £ | AF3: £££ | AG3: 5 | AH3: 0-5% maize yield impact if sown too early | AI3: Herbicide or by hard grazing followed by cultivation | AJ3: Slightly more competitive than PRG, Festulolium and Tall fescue, can be sown later. Reasonable tolerance to pre/post emergence herbicides
A4: Westerwolds (annual ryegrass) | B4: 6 | C4: 7.5 | D4: 2 | E4: 0 | F4: 3 | G4: 4 | H4: 3 | I4: 2 | J4: 5 | K4: 3 | L4: 3 | M4: 5 | N4: 2 | O4: 3 | P4: 5 | Q4: 4 | R4: 0.9 | S4: 4 | T4: 3 | U4: 3 | V4: 5 | W4: 5 | X4: 4 | Y4: 4 | Z4: 0 | AA4: 4–8 | AB4: 15-20 | AC4: 18-25 | AD4: =R4 -> 0.9 | AE4: £ | AF4: £££ | AG4: 4 | AH4: 0-5% maize yield impact if sown too early | AI4: Winter dieback or herbicide | AJ4: Fastest autumn growth. More competitive than PRG, Festulolium or Tall fescue, can be sown later. Reasonable tolerance to pre/post emergence herbicides
A5: Festulolium | B5: 5.5 | C5: 8 | D5: 4 | E5: 0 | F5: 3 | G5: 5 | H5: 4 | I5: 3 | J5: 4 | K5: 4 | L5: 5 | M5: 4 | N5: 4 | O5: 5 | P5: 5 | Q5: 4 | R5: 0.9 | S5: 4 | T5: 3 | U5: 3 | V5: 5 | W5: 5 | X5: 4 | Y5: 4 | Z5: 0 | AA5: 4-6 | AB5: 10-15 | AC5: 12-18 | AD5: =R5 -> 0.9 | AE5: £ | AF5: £££ | AG5: 5 | AH5: 0-3% maize yield impact | AI5: Herbicide or by hard grazing followed by cultivation | AJ5: Reasonable tolerance to pre/post emergence herbicides
A6: Tall fescue | B6: 5 | C6: 8 | D6: 4 | E6: 0 | F6: 3 | G6: 5 | H6: 4 | I6: 4 | J6: 3 | K6: 4 | L6: 5 | M6: 3 | N6: 4 | O6: 5 | P6: 5 | Q6: 4 | R6: 0.9 | S6: 4 | T6: 3 | U6: 3 | V6: 5 | W6: 5 | X6: 4 | Y6: 4 | Z6: 0 | AA6: 4-6 | AB6: 10-15 | AC6: 12-18 | AD6: =R6 -> 0.9 | AE6: £ | AF6: ££ | AG6: 5 | AH6: Typically 0% maize yield impact | AI6: Slower to kill chemically, follow by cultivation | AJ6: Best for early sowing. Lowest maize yield impact. Reasonable tolerance to pre/post emergence herbicides.
A7: White clover | B7: 5.5 | C7: 7 | D7: 2 | E7: 5 | F7: 5 | G7: 3 | H7: 3 | I7: 2 | J7: 3 | K7: 3 | L7: 3 | M7: 3 | N7: 3 | O7: 5 | P7: 4 | Q7: 5 | R7: 0.9 | S7: 4 | T7: 2 | U7: 0 | V7: 4 | W7: 4 | X7: 3 | Y7: 3 | Z7: 0 | AA7: 4-6 | AB7: 3-5 | AC7: 4-6 | AD7: =R7 -> 0.9 | AE7: £ | AF7: ££ | AG7: 3 | AH7: Typically 0% maize yield impact | AI7: Easy to destroy with herbicide or shallow tillage. | AJ7: Residual N. Best grown/grazed with grasses to capture nutrients and minimise bloat risk in livestock.
A8: Red clover | B8: 6 | C8: 7 | D8: 4 | E8: 5 | F8: 5 | G8: 4 | H8: 4 | I8: 4 | J8: 4 | K8: 5 | L8: 3 | M8: 4 | N8: 3 | O8: 5 | P8: 4 | Q8: 5 | R8: 0.9 | S8: 4 | T8: 2 | U8: 0 | V8: 4 | W8: 4 | X8: 3 | Y8: 3 | Z8: 0 | AA8: 4-6 | AB8: 6-10 | AC8: 8-12 | AD8: =R8 -> 0.9 | AE8: ££ | AF8: ££ | AG8: 3 | AH8: Typically 0% maize yield impact | AI8: Herbicide or by hard grazing followed by cultivation | AJ8: Soil health benefit. Can be sown in mixture with chicory and plantain. Residual N. High forage yield. Best grown/grazed with grasses to capture nutrients and minimise bloat risk in livestock.
A9: Climbing beans | B9: 6 | C9: 7.5 | D9: 2 | E9: 5 | F9: 4 | G9: 0 | H9: 3 | I9: 3 | J9: 2 | K9: 3 | L9: 0 | M9: 3 | N9: 0 | O9: 0 | P9: 5 | Q9: 0 | R9: 4 | S9: 0 | T9: 0 | U9: 0 | V9: 0 | W9: 0 | X9: 3 | Y9: 3 | Z9: 0 | AA9: 0 | AB9: 50-80 | AC9: - | AD9: =R9 -> 4 | AE9: ££ | AG9: 3 | AH9: Cut as bicrop, risk of maize yield reduction from competition but higher total forage | AI9: Removed with maize harvest | AJ9: Potential for higher total forage with higher CP and soil N
A10: Field beans | B10: 6 | C10: 8 | D10: 2 | E10: 5 | F10: 4 | G10: 2 | H10: 3 | I10: 3 | J10: 2 | K10: 4 | L10: 2 | M10: 3 | N10: 0 | O10: 0 | P10: 5 | Q10: 0 | R10: 5 | S10: 0 | T10: 0 | U10: 0 | V10: 0 | W10: 0 | X10: 3 | Y10: 3 | Z10: 0 | AA10: 0 | AB10: 80-150 | AC10: - | AD10: =R10 -> 5 | AE10: £ | AG10: 2 | AH10: Can be cut as bicrop, risk of maize yield reduction | AI10: Winter/frost kill, top high stubble, cultivate | AJ10: Residual N
A11: Balansa clover | B11: 4.5 | C11: 7.5 | D11: 3 | E11: 5 | F11: 4 | G11: 3 | H11: 3 | I11: 2 | J11: 4 | K11: 3 | L11: 3 | M11: 3 | N11: 3 | O11: 0 | P11: 4 | Q11: 5 | R11: 0.9 | S11: 4 | T11: 2 | U11: 1 | V11: 4 | W11: 4 | X11: 3 | Y11: 3 | Z11: 3 | AA11: 5-8 | AB11: 3-5 | AC11: 5-7 | AD11: =R11 -> 0.9 | AE11: ££ | AF11: ££ | AG11: 3 | AH11: Typically 0% maize yield impact | AI11: Winter/frost kill | AJ11: Residual N. Best grown/grazed with grasses to capture nutrients and minimise bloat risk in livestock.
A12: Berseem clover | B12: 6 | C12: 7.5 | D12: 2 | E12: 5 | F12: 4 | G12: 3 | H12: 3 | I12: 2 | J12: 4 | K12: 3 | L12: 3 | M12: 3 | N12: 2 | O12: 0 | P12: 4 | Q12: 5 | R12: 0.9 | S12: 4 | T12: 2 | U12: 1 | V12: 3 | W12: 3 | X12: 3 | Y12: 3 | Z12: 3 | AA12: 6-8 | AB12: 8-12 | AC12: 10-15 | AD12: =R12 -> 0.9 | AE12: ££ | AF12: £ | AG12: 2 | AH12: Typically 0-2% maize yield impact | AI12: Winter/frost kill | AJ12: Residual N. Best grown/grazed with grasses to capture nutrients and minimise bloat risk in livestock.
A13: Crimson clover | B13: 6 | C13: 7 | D13: 2 | E13: 5 | F13: 4 | G13: 4 | H13: 3 | I13: 3 | J13: 4 | K13: 4 | L13: 3 | M13: 3 | N13: 2 | O13: 0 | P13: 4 | Q13: 4 | R13: 0.9 | S13: 4 | T13: 2 | U13: 0 | V13: 3 | W13: 3 | X13: 3 | Y13: 3 | Z13: 3 | AA13: 5-7 | AB13: 8-12 | AC13: 10-15 | AD13: =R13 -> 0.9 | AE13: ££ | AG13: 3 | AH13: Typically 0% maize yield impact | AI13: Winter/frost kill | AJ13: Faster autumn growth than white clover. Residual N. Best grown/grazed with grasses to capture nutrients and minimise bloat risk in livestock.
A14: Chicory | B14: 5.5 | C14: 8 | D14: 5 | E14: 0 | F14: 4 | G14: 3 | H14: 5 | I14: 5 | J14: 3 | K14: 4 | L14: 3 | M14: 3 | N14: 3 | O14: 5 | P14: 4 | Q14: 3 | R14: 0.9 | S14: 4 | T14: 3 | U14: 0 | V14: 4 | W14: 4 | X14: 4 | Y14: 3 | Z14: 0 | AA14: 3-4 | AB14: 2-4 | AC14: 3-5 | AD14: =R14 -> 0.9 | AE14: ££ | AF14: ££ | AG14: 3 | AH14: Typically 0% maize yield impact | AI14: Herbicide or by hard grazing followed by cultivation | AJ14: Slow initial growth, better weed suppression if in mixture with plantain and red clover
A15: Ribwort plantain | B15: 5 | C15: 8 | D15: 4 | E15: 0 | F15: 4 | G15: 3 | H15: 5 | I15: 4 | J15: 3 | K15: 4 | L15: 4 | M15: 3 | N15: 4 | O15: 5 | P15: 4 | Q15: 3 | R15: 0.9 | S15: 4 | T15: 3 | U15: 1 | V15: 4 | W15: 4 | X15: 4 | Y15: 3 | Z15: 0 | AA15: 3-4 | AB15: 2-4 | AC15: 3-5 | AD15: =R15 -> 0.9 | AE15: ££ | AF15: ££ | AG15: 3 | AH15: Typically 0-2% maize yield impact | AI15: Herbicide or by hard grazing followed by cultivation | AJ15: Relatively slow initial growth. Works well in mixture with chicory and red clover
A16: Vetch | B16: 5.5 | C16: 7.5 | D16: 2 | E16: 5 | F16: 4 | G16: 3 | H16: 3 | I16: 3 | J16: 5 | K16: 5 | L16: 2 | M16: 3 | N16: 2 | O16: 3 | P16: 4 | Q16: 3 | R16: 3 | S16: 2 | T16: 0 | U16: 0 | V16: 3 | W16: 3 | X16: 4 | Y16: 3 | Z16: 0 | AA16: 1-3 | AB16: 15-25 | AC16: 20-30 | AD16: =R16 -> 3 | AE16: ££ | AF16: ££ | AG16: 3 | AH16: Typically 0-3% maize yield impact | AI16: Winter/frost kill or herbicide | AJ16: Residual N. Works best in a mixture
A17: Rye | B17: 5.5 | C17: 7 | D17: 5 | E17: 0 | F17: 2 | G17: 5 | H17: 5 | I17: 5 | J17: 5 | K17: 5 | L17: 4 | M17: 5 | N17: 4 | O17: 5 | P17: 4 | Q17: 4 | R17: 4 | S17: 5 | T17: 3 | U17: 3 | V17: 5 | W17: 3 | X17: 4 | Y17: 5 | Z17: 1 | AA17: 6-8 | AB17: 30-75 | AC17: 40-85 | AD17: =R17 -> 4 | AE17: £ | AF17: ££ | AG17: 3 | AH17: Can reduce yield if established early or in dry conditions (competes for moisture). Dense ground cover can slow harvest.Typically 0-5% maize yield impact | AI17: Herbicide or by hard grazing followed by cultivation | AJ17: Soil benefits. Works best when sown later (6–8 leaf). Excellent for bi-crop silage or early spring grazing. Can compete with maize in dry conditions
A18: Oats | B18: 5.3 | C18: 7.5 | D18: 3 | E18: 0 | F18: 2 | G18: 4 | H18: 4 | I18: 3 | J18: 4 | K18: 4 | L18: 3 | M18: 4 | N18: 3 | O18: 1 | P18: 4 | Q18: 3 | R18: 4 | S18: 5 | T18: 3 | U18: 4 | V18: 3 | W18: 4 | X18: 5 | Y18: 5 | Z18: 5 | AA18: 3-8 | AB18: 40-60 | AC18: 60-80 | AD18: =R18 -> 4 | AE18: £ | AF18: ££ | AG18: 3 | AH18: Typically 0-5% maize yield or harvest impact | AI18: Winter die-back or herbicide or by hard grazing followed by cultivation | AJ18: Slow initial growth, good for later drilling
A19: Barley | B19: 6 | C19: 8 | D19: 3 | E19: 0 | F19: 2 | G19: 4 | H19: 4 | I19: 3 | J19: 3 | K19: 3 | L19: 3 | M19: 3 | N19: 2 | O19: 2 | P19: 4 | Q19: 3 | R19: 4 | S19: 4 | T19: 3 | U19: 3 | V19: 3 | W19: 4 | X19: 5 | Y19: 5 | Z19: 4 | AA19: 4-6 | AB19: 60-80 | AC19: 80-110 | AD19: =R19 -> 4 | AE19: £ | AF19: ££ | AG19: 3 | AH19: Typically 0-5% maize yield impact | AI19: Herbicide or by hard grazing followed by cultivation | AJ19: Less aggressive than rye, can struggle in dense shade
A20: Triticale | B20: 5.5 | C20: 7.8 | D20: 4 | E20: 0 | F20: 2 | G20: 5 | H20: 5 | I20: 4 | J20: 5 | K20: 5 | L20: 4 | M20: 5 | N20: 3 | O20: 4 | P20: 4 | Q20: 3 | R20: 4 | S20: 5 | T20: 3 | U20: 3 | V20: 5 | W20: 4 | X20: 4 | Y20: 5 | Z20: 2 | AA20: 3-8 | AB20: 50-80 | AC20: 65-100 | AD20: =R20 -> 4 | AE20: £ | AF20: ££ | AG20: 3 | AH20: Typically 0-5% maize yield impact | AI20: Herbicide or by hard grazing followed by cultivation | AJ20: Slow initial growth. Exccellent for bi-crop and spring grazing, good nutrient capture
A21: Herb/legume/grass mix | B21: 5.5 | C21: 8 | D21: 4 | E21: 3 | F21: 4 | G21: 5 | H21: 5 | I21: 4 | J21: 4 | K21: 5 | L21: 4 | M21: 4 | N21: 3 | O21: 5 | P21: 4 | Q21: 3 | R21: 0.9 | S21: 5 | T21: 4 | U21: 2 | V21: 5 | W21: 4 | X21: 4 | Y21: 4 | Z21: 1 | AA21: 3-4 | AB21: 12-20 | AC21: 15-25 | AD21: =R21 -> 0.9 | AE21: ££ | AF21: £££ | AG21: 3 | AH21: Typically 0% maize yield impact | AI21: Herbicide or by hard grazing followed by cultivation | AJ21: Slow initial growth, excellent autumn and spring grazing, highest total benefits

Sheet Output
B1: pH | C1: Drought | D1: Row width | E1: Nitrogen fixation | F1: Protein feed source | G1: Reduce soil erosion | H1: Reduce nutrient leaching | I1: Deep rooting | J1: Weed suppression | K1: Improve soil structure | L1: Improve trafficability | M1: Bi-crop silage | N1: Drill establishment | O1: Broadcast establishment | P1: Maize pre-em compatible | Q1: Autumn/Winter cover | R1: Autumn/Winter Grazing | S1: Spring grazing | T1: Compatability
A2: Perennial ryegrass (PRG) | B2: =IF(AND('Species Selection Tool'!B$5>=Species!B2,'Species Selection Tool'!B$5<=Species!C2),Output!A2=Species!A2) -> TRUE | C2: =OR(AND('Species Selection Tool'!B$6="Yes",Species!D2>=3),'Species Selection Tool'!B$6="No") -> TRUE | D2: =IF('Species Selection Tool'!$B$8="75cm",TRUE) -> TRUE | E2: =OR(AND('Species Selection Tool'!$B$17="Yes",Species!E2>=3),'Species Selection Tool'!$B$17="-") -> TRUE | F2: =OR(AND('Species Selection Tool'!$B$20="Yes",Species!F2>=4),'Species Selection Tool'!$B$20="-") -> TRUE | G2: =OR(AND('Species Selection Tool'!$B$12="Yes",Species!G2>=3),'Species Selection Tool'!$B$12="-") -> TRUE | H2: =OR(AND('Species Selection Tool'!$B$13="Yes",Species!H2>=3),'Species Selection Tool'!$B$13="-") -> TRUE | I2: =OR(AND('Species Selection Tool'!$B$14="Yes",Species!I2>=3),'Species Selection Tool'!$B$14="-") -> TRUE | J2: =OR(AND('Species Selection Tool'!$B$18="Yes",Species!J2>=3),'Species Selection Tool'!$B$18="-") -> TRUE | K2: =OR(AND('Species Selection Tool'!$B$15="Yes",Species!K2>=3),'Species Selection Tool'!$B$15="-") -> TRUE | L2: =OR(AND('Species Selection Tool'!$B$16="Yes",Species!L2>=3),'Species Selection Tool'!$B$16="-") -> TRUE | M2: =OR(AND('Species Selection Tool'!$B$23="Yes",Species!M2>=3),AND('Species Selection Tool'!$B$23="No",Species!M2<3),AND('Species Selection Tool'!$B$23="-")) -> TRUE | N2: =OR(AND('Species Selection Tool'!$B$7="Drill",Species!P2>=3),('Species Selection Tool'!$B$7="Broadcast")) -> TRUE | O2: =OR(AND('Species Selection Tool'!$B$7="Broadcast",Species!Q2>=3,Species!R2<=1),('Species Selection Tool'!$B$7="Drill")) -> TRUE | P2: =OR(AND('Species Selection Tool'!$B$9="Yes",Species!U2>=2),'Species Selection Tool'!$B$9="No") -> TRUE | Q2: =OR(AND('Species Selection Tool'!$B$19="Yes",Species!V2>=3),'Species Selection Tool'!$B$19="-") -> TRUE | R2: =OR(AND('Species Selection Tool'!$B$21="Yes",Species!W2>=3),'Species Selection Tool'!$B$21="-") -> TRUE | S2: =OR(AND('Species Selection Tool'!$B$22="Yes",Species!O2>=3),'Species Selection Tool'!$B$22="-") -> TRUE | T2: =AND(B2:S2) -> TRUE
A3: Italian ryegrass (IRG) | B3: =IF(AND('Species Selection Tool'!B$5>=Species!B3,'Species Selection Tool'!B$5<=Species!C3),Output!A3=Species!A3) -> TRUE | C3: =OR(AND('Species Selection Tool'!B$6="Yes",Species!D3>=3),'Species Selection Tool'!B$6="No") -> TRUE | D3: =IF('Species Selection Tool'!$B$8="75cm",TRUE) -> TRUE | E3: =OR(AND('Species Selection Tool'!$B$17="Yes",Species!E3>=3),'Species Selection Tool'!$B$17="-") -> TRUE | F3: =OR(AND('Species Selection Tool'!$B$20="Yes",Species!F3>=4),'Species Selection Tool'!$B$20="-") -> TRUE | G3: =OR(AND('Species Selection Tool'!$B$12="Yes",Species!G3>=3),'Species Selection Tool'!$B$12="-") -> TRUE | H3: =OR(AND('Species Selection Tool'!$B$13="Yes",Species!H3>=3),'Species Selection Tool'!$B$13="-") -> TRUE | I3: =OR(AND('Species Selection Tool'!$B$14="Yes",Species!I3>=3),'Species Selection Tool'!$B$14="-") -> TRUE | J3: =OR(AND('Species Selection Tool'!$B$18="Yes",Species!J3>=3),'Species Selection Tool'!$B$18="-") -> TRUE | K3: =OR(AND('Species Selection Tool'!$B$15="Yes",Species!K3>=3),'Species Selection Tool'!$B$15="-") -> TRUE | L3: =OR(AND('Species Selection Tool'!$B$16="Yes",Species!L3>=3),'Species Selection Tool'!$B$16="-") -> TRUE | M3: =OR(AND('Species Selection Tool'!$B$23="Yes",Species!M3>=3),AND('Species Selection Tool'!$B$23="No",Species!M3<3),AND('Species Selection Tool'!$B$23="-")) -> TRUE | N3: =OR(AND('Species Selection Tool'!$B$7="Drill",Species!P3>=3),('Species Selection Tool'!$B$7="Broadcast")) -> TRUE | O3: =OR(AND('Species Selection Tool'!$B$7="Broadcast",Species!Q3>=3,Species!R3<=1),('Species Selection Tool'!$B$7="Drill")) -> TRUE | P3: =OR(AND('Species Selection Tool'!$B$9="Yes",Species!U3>=2),'Species Selection Tool'!$B$9="No") -> TRUE | Q3: =OR(AND('Species Selection Tool'!$B$19="Yes",Species!V3>=3),'Species Selection Tool'!$B$19="-") -> TRUE | R3: =OR(AND('Species Selection Tool'!$B$21="Yes",Species!W3>=3),'Species Selection Tool'!$B$21="-") -> TRUE | S3: =OR(AND('Species Selection Tool'!$B$22="Yes",Species!O3>=3),'Species Selection Tool'!$B$22="-") -> TRUE | T3: =AND(B3:S3) -> TRUE
A4: Westerwolds (annual ryegrass) | B4: =IF(AND('Species Selection Tool'!B$5>=Species!B4,'Species Selection Tool'!B$5<=Species!C4),Output!A4=Species!A4) -> TRUE | C4: =OR(AND('Species Selection Tool'!B$6="Yes",Species!D4>=3),'Species Selection Tool'!B$6="No") -> TRUE | D4: =IF('Species Selection Tool'!$B$8="75cm",TRUE) -> TRUE | E4: =OR(AND('Species Selection Tool'!$B$17="Yes",Species!E4>=3),'Species Selection Tool'!$B$17="-") -> TRUE | F4: =OR(AND('Species Selection Tool'!$B$20="Yes",Species!F4>=4),'Species Selection Tool'!$B$20="-") -> TRUE | G4: =OR(AND('Species Selection Tool'!$B$12="Yes",Species!G4>=3),'Species Selection Tool'!$B$12="-") -> TRUE | H4: =OR(AND('Species Selection Tool'!$B$13="Yes",Species!H4>=3),'Species Selection Tool'!$B$13="-") -> TRUE | I4: =OR(AND('Species Selection Tool'!$B$14="Yes",Species!I4>=3),'Species Selection Tool'!$B$14="-") -> TRUE | J4: =OR(AND('Species Selection Tool'!$B$18="Yes",Species!J4>=3),'Species Selection Tool'!$B$18="-") -> TRUE | K4: =OR(AND('Species Selection Tool'!$B$15="Yes",Species!K4>=3),'Species Selection Tool'!$B$15="-") -> TRUE | L4: =OR(AND('Species Selection Tool'!$B$16="Yes",Species!L4>=3),'Species Selection Tool'!$B$16="-") -> TRUE | M4: =OR(AND('Species Selection Tool'!$B$23="Yes",Species!M4>=3),AND('Species Selection Tool'!$B$23="No",Species!M4<3),AND('Species Selection Tool'!$B$23="-")) -> TRUE | N4: =OR(AND('Species Selection Tool'!$B$7="Drill",Species!P4>=3),('Species Selection Tool'!$B$7="Broadcast")) -> TRUE | O4: =OR(AND('Species Selection Tool'!$B$7="Broadcast",Species!Q4>=3,Species!R4<=1),('Species Selection Tool'!$B$7="Drill")) -> TRUE | P4: =OR(AND('Species Selection Tool'!$B$9="Yes",Species!U4>=2),'Species Selection Tool'!$B$9="No") -> TRUE | Q4: =OR(AND('Species Selection Tool'!$B$19="Yes",Species!V4>=3),'Species Selection Tool'!$B$19="-") -> TRUE | R4: =OR(AND('Species Selection Tool'!$B$21="Yes",Species!W4>=3),'Species Selection Tool'!$B$21="-") -> TRUE | S4: =OR(AND('Species Selection Tool'!$B$22="Yes",Species!O4>=3),'Species Selection Tool'!$B$22="-") -> TRUE | T4: =AND(B4:S4) -> TRUE
A5: Festulolium | B5: =IF(AND('Species Selection Tool'!B$5>=Species!B5,'Species Selection Tool'!B$5<=Species!C5),Output!A5=Species!A5) -> TRUE | C5: =OR(AND('Species Selection Tool'!B$6="Yes",Species!D5>=3),'Species Selection Tool'!B$6="No") -> TRUE | D5: =IF('Species Selection Tool'!$B$8="75cm",TRUE) -> TRUE | E5: =OR(AND('Species Selection Tool'!$B$17="Yes",Species!E5>=3),'Species Selection Tool'!$B$17="-") -> TRUE | F5: =OR(AND('Species Selection Tool'!$B$20="Yes",Species!F5>=4),'Species Selection Tool'!$B$20="-") -> TRUE | G5: =OR(AND('Species Selection Tool'!$B$12="Yes",Species!G5>=3),'Species Selection Tool'!$B$12="-") -> TRUE | H5: =OR(AND('Species Selection Tool'!$B$13="Yes",Species!H5>=3),'Species Selection Tool'!$B$13="-") -> TRUE | I5: =OR(AND('Species Selection Tool'!$B$14="Yes",Species!I5>=3),'Species Selection Tool'!$B$14="-") -> TRUE | J5: =OR(AND('Species Selection Tool'!$B$18="Yes",Species!J5>=3),'Species Selection Tool'!$B$18="-") -> TRUE | K5: =OR(AND('Species Selection Tool'!$B$15="Yes",Species!K5>=3),'Species Selection Tool'!$B$15="-") -> TRUE | L5: =OR(AND('Species Selection Tool'!$B$16="Yes",Species!L5>=3),'Species Selection Tool'!$B$16="-") -> TRUE | M5: =OR(AND('Species Selection Tool'!$B$23="Yes",Species!M5>=3),AND('Species Selection Tool'!$B$23="No",Species!M5<3),AND('Species Selection Tool'!$B$23="-")) -> TRUE | N5: =OR(AND('Species Selection Tool'!$B$7="Drill",Species!P5>=3),('Species Selection Tool'!$B$7="Broadcast")) -> TRUE | O5: =OR(AND('Species Selection Tool'!$B$7="Broadcast",Species!Q5>=3,Species!R5<=1),('Species Selection Tool'!$B$7="Drill")) -> TRUE | P5: =OR(AND('Species Selection Tool'!$B$9="Yes",Species!U5>=2),'Species Selection Tool'!$B$9="No") -> TRUE | Q5: =OR(AND('Species Selection Tool'!$B$19="Yes",Species!V5>=3),'Species Selection Tool'!$B$19="-") -> TRUE | R5: =OR(AND('Species Selection Tool'!$B$21="Yes",Species!W5>=3),'Species Selection Tool'!$B$21="-") -> TRUE | S5: =OR(AND('Species Selection Tool'!$B$22="Yes",Species!O5>=3),'Species Selection Tool'!$B$22="-") -> TRUE | T5: =AND(B5:S5) -> TRUE
A6: Tall fescue | B6: =IF(AND('Species Selection Tool'!B$5>=Species!B6,'Species Selection Tool'!B$5<=Species!C6),Output!A6=Species!A6) -> TRUE | C6: =OR(AND('Species Selection Tool'!B$6="Yes",Species!D6>=3),'Species Selection Tool'!B$6="No") -> TRUE | D6: =IF('Species Selection Tool'!$B$8="75cm",TRUE) -> TRUE | E6: =OR(AND('Species Selection Tool'!$B$17="Yes",Species!E6>=3),'Species Selection Tool'!$B$17="-") -> TRUE | F6: =OR(AND('Species Selection Tool'!$B$20="Yes",Species!F6>=4),'Species Selection Tool'!$B$20="-") -> TRUE | G6: =OR(AND('Species Selection Tool'!$B$12="Yes",Species!G6>=3),'Species Selection Tool'!$B$12="-") -> TRUE | H6: =OR(AND('Species Selection Tool'!$B$13="Yes",Species!H6>=3),'Species Selection Tool'!$B$13="-") -> TRUE | I6: =OR(AND('Species Selection Tool'!$B$14="Yes",Species!I6>=3),'Species Selection Tool'!$B$14="-") -> TRUE | J6: =OR(AND('Species Selection Tool'!$B$18="Yes",Species!J6>=3),'Species Selection Tool'!$B$18="-") -> TRUE | K6: =OR(AND('Species Selection Tool'!$B$15="Yes",Species!K6>=3),'Species Selection Tool'!$B$15="-") -> TRUE | L6: =OR(AND('Species Selection Tool'!$B$16="Yes",Species!L6>=3),'Species Selection Tool'!$B$16="-") -> TRUE | M6: =OR(AND('Species Selection Tool'!$B$23="Yes",Species!M6>=3),AND('Species Selection Tool'!$B$23="No",Species!M6<3),AND('Species Selection Tool'!$B$23="-")) -> TRUE | N6: =OR(AND('Species Selection Tool'!$B$7="Drill",Species!P6>=3),('Species Selection Tool'!$B$7="Broadcast")) -> TRUE | O6: =OR(AND('Species Selection Tool'!$B$7="Broadcast",Species!Q6>=3,Species!R6<=1),('Species Selection Tool'!$B$7="Drill")) -> TRUE | P6: =OR(AND('Species Selection Tool'!$B$9="Yes",Species!U6>=2),'Species Selection Tool'!$B$9="No") -> TRUE | Q6: =OR(AND('Species Selection Tool'!$B$19="Yes",Species!V6>=3),'Species Selection Tool'!$B$19="-") -> TRUE | R6: =OR(AND('Species Selection Tool'!$B$21="Yes",Species!W6>=3),'Species Selection Tool'!$B$21="-") -> TRUE | S6: =OR(AND('Species Selection Tool'!$B$22="Yes",Species!O6>=3),'Species Selection Tool'!$B$22="-") -> TRUE | T6: =AND(B6:S6) -> TRUE
A7: White clover | B7: =IF(AND('Species Selection Tool'!B$5>=Species!B7,'Species Selection Tool'!B$5<=Species!C7),Output!A7=Species!A7) -> TRUE | C7: =OR(AND('Species Selection Tool'!B$6="Yes",Species!D7>=3),'Species Selection Tool'!B$6="No") -> TRUE | D7: =IF('Species Selection Tool'!$B$8="75cm",TRUE) -> TRUE | E7: =OR(AND('Species Selection Tool'!$B$17="Yes",Species!E7>=3),'Species Selection Tool'!$B$17="-") -> TRUE | F7: =OR(AND('Species Selection Tool'!$B$20="Yes",Species!F7>=4),'Species Selection Tool'!$B$20="-") -> TRUE | G7: =OR(AND('Species Selection Tool'!$B$12="Yes",Species!G7>=3),'Species Selection Tool'!$B$12="-") -> TRUE | H7: =OR(AND('Species Selection Tool'!$B$13="Yes",Species!H7>=3),'Species Selection Tool'!$B$13="-") -> TRUE | I7: =OR(AND('Species Selection Tool'!$B$14="Yes",Species!I7>=3),'Species Selection Tool'!$B$14="-") -> TRUE | J7: =OR(AND('Species Selection Tool'!$B$18="Yes",Species!J7>=3),'Species Selection Tool'!$B$18="-") -> TRUE | K7: =OR(AND('Species Selection Tool'!$B$15="Yes",Species!K7>=3),'Species Selection Tool'!$B$15="-") -> TRUE | L7: =OR(AND('Species Selection Tool'!$B$16="Yes",Species!L7>=3),'Species Selection Tool'!$B$16="-") -> TRUE | M7: =OR(AND('Species Selection Tool'!$B$23="Yes",Species!M7>=3),AND('Species Selection Tool'!$B$23="No",Species!M7<3),AND('Species Selection Tool'!$B$23="-")) -> TRUE | N7: =OR(AND('Species Selection Tool'!$B$7="Drill",Species!P7>=3),('Species Selection Tool'!$B$7="Broadcast")) -> TRUE | O7: =OR(AND('Species Selection Tool'!$B$7="Broadcast",Species!Q7>=3,Species!R7<=1),('Species Selection Tool'!$B$7="Drill")) -> TRUE | P7: =OR(AND('Species Selection Tool'!$B$9="Yes",Species!U7>=2),'Species Selection Tool'!$B$9="No") -> TRUE | Q7: =OR(AND('Species Selection Tool'!$B$19="Yes",Species!V7>=3),'Species Selection Tool'!$B$19="-") -> TRUE | R7: =OR(AND('Species Selection Tool'!$B$21="Yes",Species!W7>=3),'Species Selection Tool'!$B$21="-") -> TRUE | S7: =OR(AND('Species Selection Tool'!$B$22="Yes",Species!O7>=3),'Species Selection Tool'!$B$22="-") -> TRUE | T7: =AND(B7:S7) -> TRUE
A8: Red clover | B8: =IF(AND('Species Selection Tool'!B$5>=Species!B8,'Species Selection Tool'!B$5<=Species!C8),Output!A8=Species!A8) -> TRUE | C8: =OR(AND('Species Selection Tool'!B$6="Yes",Species!D8>=3),'Species Selection Tool'!B$6="No") -> TRUE | D8: =IF('Species Selection Tool'!$B$8="75cm",TRUE) -> TRUE | E8: =OR(AND('Species Selection Tool'!$B$17="Yes",Species!E8>=3),'Species Selection Tool'!$B$17="-") -> TRUE | F8: =OR(AND('Species Selection Tool'!$B$20="Yes",Species!F8>=4),'Species Selection Tool'!$B$20="-") -> TRUE | G8: =OR(AND('Species Selection Tool'!$B$12="Yes",Species!G8>=3),'Species Selection Tool'!$B$12="-") -> TRUE | H8: =OR(AND('Species Selection Tool'!$B$13="Yes",Species!H8>=3),'Species Selection Tool'!$B$13="-") -> TRUE | I8: =OR(AND('Species Selection Tool'!$B$14="Yes",Species!I8>=3),'Species Selection Tool'!$B$14="-") -> TRUE | J8: =OR(AND('Species Selection Tool'!$B$18="Yes",Species!J8>=3),'Species Selection Tool'!$B$18="-") -> TRUE | K8: =OR(AND('Species Selection Tool'!$B$15="Yes",Species!K8>=3),'Species Selection Tool'!$B$15="-") -> TRUE | L8: =OR(AND('Species Selection Tool'!$B$16="Yes",Species!L8>=3),'Species Selection Tool'!$B$16="-") -> TRUE | M8: =OR(AND('Species Selection Tool'!$B$23="Yes",Species!M8>=3),AND('Species Selection Tool'!$B$23="No",Species!M8<3),AND('Species Selection Tool'!$B$23="-")) -> TRUE | N8: =OR(AND('Species Selection Tool'!$B$7="Drill",Species!P8>=3),('Species Selection Tool'!$B$7="Broadcast")) -> TRUE | O8: =OR(AND('Species Selection Tool'!$B$7="Broadcast",Species!Q8>=3,Species!R8<=1),('Species Selection Tool'!$B$7="Drill")) -> TRUE | P8: =OR(AND('Species Selection Tool'!$B$9="Yes",Species!U8>=2),'Species Selection Tool'!$B$9="No") -> TRUE | Q8: =OR(AND('Species Selection Tool'!$B$19="Yes",Species!V8>=3),'Species Selection Tool'!$B$19="-") -> TRUE | R8: =OR(AND('Species Selection Tool'!$B$21="Yes",Species!W8>=3),'Species Selection Tool'!$B$21="-") -> TRUE | S8: =OR(AND('Species Selection Tool'!$B$22="Yes",Species!O8>=3),'Species Selection Tool'!$B$22="-") -> TRUE | T8: =AND(B8:S8) -> TRUE
A9: Climbing beans | B9: =IF(AND('Species Selection Tool'!B$5>=Species!B9,'Species Selection Tool'!B$5<=Species!C9),Output!A9=Species!A9) -> TRUE | C9: =OR(AND('Species Selection Tool'!B$6="Yes",Species!D9>=3),'Species Selection Tool'!B$6="No") -> TRUE | D9: =IF('Species Selection Tool'!$B$8="75cm",TRUE) -> TRUE | E9: =OR(AND('Species Selection Tool'!$B$17="Yes",Species!E9>=3),'Species Selection Tool'!$B$17="-") -> TRUE | F9: =OR(AND('Species Selection Tool'!$B$20="Yes",Species!F9>=4),'Species Selection Tool'!$B$20="-") -> TRUE | G9: =OR(AND('Species Selection Tool'!$B$12="Yes",Species!G9>=3),'Species Selection Tool'!$B$12="-") -> TRUE | H9: =OR(AND('Species Selection Tool'!$B$13="Yes",Species!H9>=3),'Species Selection Tool'!$B$13="-") -> TRUE | I9: =OR(AND('Species Selection Tool'!$B$14="Yes",Species!I9>=3),'Species Selection Tool'!$B$14="-") -> TRUE | J9: =OR(AND('Species Selection Tool'!$B$18="Yes",Species!J9>=3),'Species Selection Tool'!$B$18="-") -> TRUE | K9: =OR(AND('Species Selection Tool'!$B$15="Yes",Species!K9>=3),'Species Selection Tool'!$B$15="-") -> TRUE | L9: =OR(AND('Species Selection Tool'!$B$16="Yes",Species!L9>=3),'Species Selection Tool'!$B$16="-") -> TRUE | M9: =OR(AND('Species Selection Tool'!$B$23="Yes",Species!M9>=3),AND('Species Selection Tool'!$B$23="No",Species!M9<3),AND('Species Selection Tool'!$B$23="-")) -> TRUE | N9: =OR(AND('Species Selection Tool'!$B$7="Drill",Species!P9>=3),('Species Selection Tool'!$B$7="Broadcast")) -> TRUE | O9: =OR(AND('Species Selection Tool'!$B$7="Broadcast",Species!Q9>=3,Species!R9<=1),('Species Selection Tool'!$B$7="Drill")) -> TRUE | P9: =OR(AND('Species Selection Tool'!$B$9="Yes",Species!U9>=2),'Species Selection Tool'!$B$9="No") -> TRUE | Q9: =OR(AND('Species Selection Tool'!$B$19="Yes",Species!V9>=3),'Species Selection Tool'!$B$19="-") -> TRUE | R9: =OR(AND('Species Selection Tool'!$B$21="Yes",Species!W9>=3),'Species Selection Tool'!$B$21="-") -> TRUE | S9: =OR(AND('Species Selection Tool'!$B$22="Yes",Species!O9>=3),'Species Selection Tool'!$B$22="-") -> TRUE | T9: =AND(B9:S9) -> TRUE
A10: Field beans | B10: =IF(AND('Species Selection Tool'!B$5>=Species!B10,'Species Selection Tool'!B$5<=Species!C10),Output!A10=Species!A10) -> TRUE | C10: =OR(AND('Species Selection Tool'!B$6="Yes",Species!D10>=3),'Species Selection Tool'!B$6="No") -> TRUE | D10: =IF('Species Selection Tool'!$B$8="75cm",TRUE) -> TRUE | E10: =OR(AND('Species Selection Tool'!$B$17="Yes",Species!E10>=3),'Species Selection Tool'!$B$17="-") -> TRUE | F10: =OR(AND('Species Selection Tool'!$B$20="Yes",Species!F10>=4),'Species Selection Tool'!$B$20="-") -> TRUE | G10: =OR(AND('Species Selection Tool'!$B$12="Yes",Species!G10>=3),'Species Selection Tool'!$B$12="-") -> TRUE | H10: =OR(AND('Species Selection Tool'!$B$13="Yes",Species!H10>=3),'Species Selection Tool'!$B$13="-") -> TRUE | I10: =OR(AND('Species Selection Tool'!$B$14="Yes",Species!I10>=3),'Species Selection Tool'!$B$14="-") -> TRUE | J10: =OR(AND('Species Selection Tool'!$B$18="Yes",Species!J10>=3),'Species Selection Tool'!$B$18="-") -> TRUE | K10: =OR(AND('Species Selection Tool'!$B$15="Yes",Species!K10>=3),'Species Selection Tool'!$B$15="-") -> TRUE | L10: =OR(AND('Species Selection Tool'!$B$16="Yes",Species!L10>=3),'Species Selection Tool'!$B$16="-") -> TRUE | M10: =OR(AND('Species Selection Tool'!$B$23="Yes",Species!M10>=3),AND('Species Selection Tool'!$B$23="No",Species!M10<3),AND('Species Selection Tool'!$B$23="-")) -> TRUE | N10: =OR(AND('Species Selection Tool'!$B$7="Drill",Species!P10>=3),('Species Selection Tool'!$B$7="Broadcast")) -> TRUE | O10: =OR(AND('Species Selection Tool'!$B$7="Broadcast",Species!Q10>=3,Species!R10<=1),('Species Selection Tool'!$B$7="Drill")) -> TRUE | P10: =OR(AND('Species Selection Tool'!$B$9="Yes",Species!U10>=2),'Species Selection Tool'!$B$9="No") -> TRUE | Q10: =OR(AND('Species Selection Tool'!$B$19="Yes",Species!V10>=3),'Species Selection Tool'!$B$19="-") -> TRUE | R10: =OR(AND('Species Selection Tool'!$B$21="Yes",Species!W10>=3),'Species Selection Tool'!$B$21="-") -> TRUE | S10: =OR(AND('Species Selection Tool'!$B$22="Yes",Species!O10>=3),'Species Selection Tool'!$B$22="-") -> TRUE | T10: =AND(B10:S10) -> TRUE
A11: Balansa clover | B11: =IF(AND('Species Selection Tool'!B$5>=Species!B11,'Species Selection Tool'!B$5<=Species!C11),Output!A11=Species!A11) -> TRUE | C11: =OR(AND('Species Selection Tool'!B$6="Yes",Species!D11>=3),'Species Selection Tool'!B$6="No") -> TRUE | D11: =IF('Species Selection Tool'!$B$8="75cm",TRUE) -> TRUE | E11: =OR(AND('Species Selection Tool'!$B$17="Yes",Species!E11>=3),'Species Selection Tool'!$B$17="-") -> TRUE | F11: =OR(AND('Species Selection Tool'!$B$20="Yes",Species!F11>=4),'Species Selection Tool'!$B$20="-") -> TRUE | G11: =OR(AND('Species Selection Tool'!$B$12="Yes",Species!G11>=3),'Species Selection Tool'!$B$12="-") -> TRUE | H11: =OR(AND('Species Selection Tool'!$B$13="Yes",Species!H11>=3),'Species Selection Tool'!$B$13="-") -> TRUE | I11: =OR(AND('Species Selection Tool'!$B$14="Yes",Species!I11>=3),'Species Selection Tool'!$B$14="-") -> TRUE | J11: =OR(AND('Species Selection Tool'!$B$18="Yes",Species!J11>=3),'Species Selection Tool'!$B$18="-") -> TRUE | K11: =OR(AND('Species Selection Tool'!$B$15="Yes",Species!K11>=3),'Species Selection Tool'!$B$15="-") -> TRUE | L11: =OR(AND('Species Selection Tool'!$B$16="Yes",Species!L11>=3),'Species Selection Tool'!$B$16="-") -> TRUE | M11: =OR(AND('Species Selection Tool'!$B$23="Yes",Species!M11>=3),AND('Species Selection Tool'!$B$23="No",Species!M11<3),AND('Species Selection Tool'!$B$23="-")) -> TRUE | N11: =OR(AND('Species Selection Tool'!$B$7="Drill",Species!P11>=3),('Species Selection Tool'!$B$7="Broadcast")) -> TRUE | O11: =OR(AND('Species Selection Tool'!$B$7="Broadcast",Species!Q11>=3,Species!R11<=1),('Species Selection Tool'!$B$7="Drill")) -> TRUE | P11: =OR(AND('Species Selection Tool'!$B$9="Yes",Species!U11>=2),'Species Selection Tool'!$B$9="No") -> TRUE | Q11: =OR(AND('Species Selection Tool'!$B$19="Yes",Species!V11>=3),'Species Selection Tool'!$B$19="-") -> TRUE | R11: =OR(AND('Species Selection Tool'!$B$21="Yes",Species!W11>=3),'Species Selection Tool'!$B$21="-") -> TRUE | S11: =OR(AND('Species Selection Tool'!$B$22="Yes",Species!O11>=3),'Species Selection Tool'!$B$22="-") -> TRUE | T11: =AND(B11:S11) -> TRUE
A12: Berseem clover | B12: =IF(AND('Species Selection Tool'!B$5>=Species!B12,'Species Selection Tool'!B$5<=Species!C12),Output!A12=Species!A12) -> TRUE | C12: =OR(AND('Species Selection Tool'!B$6="Yes",Species!D12>=3),'Species Selection Tool'!B$6="No") -> TRUE | D12: =IF('Species Selection Tool'!$B$8="75cm",TRUE) -> TRUE | E12: =OR(AND('Species Selection Tool'!$B$17="Yes",Species!E12>=3),'Species Selection Tool'!$B$17="-") -> TRUE | F12: =OR(AND('Species Selection Tool'!$B$20="Yes",Species!F12>=4),'Species Selection Tool'!$B$20="-") -> TRUE | G12: =OR(AND('Species Selection Tool'!$B$12="Yes",Species!G12>=3),'Species Selection Tool'!$B$12="-") -> TRUE | H12: =OR(AND('Species Selection Tool'!$B$13="Yes",Species!H12>=3),'Species Selection Tool'!$B$13="-") -> TRUE | I12: =OR(AND('Species Selection Tool'!$B$14="Yes",Species!I12>=3),'Species Selection Tool'!$B$14="-") -> TRUE | J12: =OR(AND('Species Selection Tool'!$B$18="Yes",Species!J12>=3),'Species Selection Tool'!$B$18="-") -> TRUE | K12: =OR(AND('Species Selection Tool'!$B$15="Yes",Species!K12>=3),'Species Selection Tool'!$B$15="-") -> TRUE | L12: =OR(AND('Species Selection Tool'!$B$16="Yes",Species!L12>=3),'Species Selection Tool'!$B$16="-") -> TRUE | M12: =OR(AND('Species Selection Tool'!$B$23="Yes",Species!M12>=3),AND('Species Selection Tool'!$B$23="No",Species!M12<3),AND('Species Selection Tool'!$B$23="-")) -> TRUE | N12: =OR(AND('Species Selection Tool'!$B$7="Drill",Species!P12>=3),('Species Selection Tool'!$B$7="Broadcast")) -> TRUE | O12: =OR(AND('Species Selection Tool'!$B$7="Broadcast",Species!Q12>=3,Species!R12<=1),('Species Selection Tool'!$B$7="Drill")) -> TRUE | P12: =OR(AND('Species Selection Tool'!$B$9="Yes",Species!U12>=2),'Species Selection Tool'!$B$9="No") -> TRUE | Q12: =OR(AND('Species Selection Tool'!$B$19="Yes",Species!V12>=3),'Species Selection Tool'!$B$19="-") -> TRUE | R12: =OR(AND('Species Selection Tool'!$B$21="Yes",Species!W12>=3),'Species Selection Tool'!$B$21="-") -> TRUE | S12: =OR(AND('Species Selection Tool'!$B$22="Yes",Species!O12>=3),'Species Selection Tool'!$B$22="-") -> TRUE | T12: =AND(B12:S12) -> TRUE
A13: Crimson clover | B13: =IF(AND('Species Selection Tool'!B$5>=Species!B13,'Species Selection Tool'!B$5<=Species!C13),Output!A13=Species!A13) -> TRUE | C13: =OR(AND('Species Selection Tool'!B$6="Yes",Species!D13>=3),'Species Selection Tool'!B$6="No") -> TRUE | D13: =IF('Species Selection Tool'!$B$8="75cm",TRUE) -> TRUE | E13: =OR(AND('Species Selection Tool'!$B$17="Yes",Species!E13>=3),'Species Selection Tool'!$B$17="-") -> TRUE | F13: =OR(AND('Species Selection Tool'!$B$20="Yes",Species!F13>=4),'Species Selection Tool'!$B$20="-") -> TRUE | G13: =OR(AND('Species Selection Tool'!$B$12="Yes",Species!G13>=3),'Species Selection Tool'!$B$12="-") -> TRUE | H13: =OR(AND('Species Selection Tool'!$B$13="Yes",Species!H13>=3),'Species Selection Tool'!$B$13="-") -> TRUE | I13: =OR(AND('Species Selection Tool'!$B$14="Yes",Species!I13>=3),'Species Selection Tool'!$B$14="-") -> TRUE | J13: =OR(AND('Species Selection Tool'!$B$18="Yes",Species!J13>=3),'Species Selection Tool'!$B$18="-") -> TRUE | K13: =OR(AND('Species Selection Tool'!$B$15="Yes",Species!K13>=3),'Species Selection Tool'!$B$15="-") -> TRUE | L13: =OR(AND('Species Selection Tool'!$B$16="Yes",Species!L13>=3),'Species Selection Tool'!$B$16="-") -> TRUE | M13: =OR(AND('Species Selection Tool'!$B$23="Yes",Species!M13>=3),AND('Species Selection Tool'!$B$23="No",Species!M13<3),AND('Species Selection Tool'!$B$23="-")) -> TRUE | N13: =OR(AND('Species Selection Tool'!$B$7="Drill",Species!P13>=3),('Species Selection Tool'!$B$7="Broadcast")) -> TRUE | O13: =OR(AND('Species Selection Tool'!$B$7="Broadcast",Species!Q13>=3,Species!R13<=1),('Species Selection Tool'!$B$7="Drill")) -> TRUE | P13: =OR(AND('Species Selection Tool'!$B$9="Yes",Species!U13>=2),'Species Selection Tool'!$B$9="No") -> TRUE | Q13: =OR(AND('Species Selection Tool'!$B$19="Yes",Species!V13>=3),'Species Selection Tool'!$B$19="-") -> TRUE | R13: =OR(AND('Species Selection Tool'!$B$21="Yes",Species!W13>=3),'Species Selection Tool'!$B$21="-") -> TRUE | S13: =OR(AND('Species Selection Tool'!$B$22="Yes",Species!O13>=3),'Species Selection Tool'!$B$22="-") -> TRUE | T13: =AND(B13:S13) -> TRUE
